BEGIN:VCALENDAR
VERSION:2.0
PRODID:-//Ev. Stadtkirche Sankt Petri Dortmund//NONSGML kigkonsult.se iCalc
 reator 2.30.10//
CALSCALE:GREGORIAN
METHOD:PUBLISH
UID:c4b95342-a904-46dd-9a5d-ea7645893508
X-WR-CALNAME:iCagenda
X-WR-CALDESC:Event Management Extension for Joomla!
X-WR-RELCALID:3E26604A-50F4-4449-8B3E-E4F4932D05B5
X-WR-TIMEZONE:Europe/Berlin
BEGIN:VTIMEZONE
TZID:Europe/Berlin
BEGIN:STANDARD
TZNAME:CET
DTSTART:20251026T030000
TZOFFSETFROM:+0200
TZOFFSETTO:+0100
RDATE:20261025T030000
END:STANDARD
BEGIN:DAYLIGHT
TZNAME:CEST
DTSTART:20250330T020000
TZOFFSETFROM:+0100
TZOFFSETTO:+0200
RDATE:20260329T020000
RDATE:20270328T020000
END:DAYLIGHT
END:VTIMEZONE
BEGIN:VEVENT
UID:9475f9c1-e648-4768-88f0-b4c71613be30
DTSTAMP:20260424T042245Z
CATEGORIES:Spirituelles
CLASS:PUBLIC
DESCRIPTION;ALTREP="CID:<FFFF__=0ABBE548DFE235B58f9e8a93d@coffeebean.com>":
 Familiengottesdienst des Petri KindergartensSo 8.3. | 11-12 Uhr 
DTSTART:20260308T082400Z
DTEND:20260308T110000Z
GEO:+51.514618;+7.460382
LOCATION:Ev. Stadtkirche Sankt Petri
ORGANIZER;CN=:buero@sankt-petri-do.de
SEQUENCE:1
SUMMARY:Familiengottesdienst mit dem Petri-Kindergarten
TRANSP:OPAQUE
URL:https://www.sankt-petri-do.de/component/icagenda/306-familiengottesdien
 st-mit-dem-petri-kindergarten-2
END:VEVENT
END:VCALENDAR
