BEGIN:VCALENDAR
VERSION:2.0
PRODID:-//Ev. Stadtkirche Sankt Petri Dortmund//NONSGML kigkonsult.se iCalc
 reator 2.30.10//
CALSCALE:GREGORIAN
METHOD:PUBLISH
UID:1cd754d4-7585-4831-b4c6-31c500fd62d3
X-WR-CALNAME:iCagenda
X-WR-CALDESC:Event Management Extension for Joomla!
X-WR-RELCALID:3E26604A-50F4-4449-8B3E-E4F4932D05B5
X-WR-TIMEZONE:Europe/Berlin
BEGIN:VTIMEZONE
TZID:Europe/Berlin
BEGIN:STANDARD
TZNAME:CET
DTSTART:20251026T030000
TZOFFSETFROM:+0200
TZOFFSETTO:+0100
RDATE:20261025T030000
END:STANDARD
BEGIN:DAYLIGHT
TZNAME:CEST
DTSTART:20260329T020000
TZOFFSETFROM:+0100
TZOFFSETTO:+0200
RDATE:20270328T020000
END:DAYLIGHT
END:VTIMEZONE
BEGIN:VEVENT
UID:8ae5bdac-6d50-47fa-aa5d-7bec17ebc376
DTSTAMP:20260420T110333Z
CATEGORIES:Konzerte
CLASS:PUBLIC
DESCRIPTION;ALTREP="CID:<FFFF__=0ABBE548DFE235B58f9e8a93d@coffeebean.com>":
 Hamburg-Stage-Ensemble | La noche del Tango\nSo 19.4. | 18 Uhr
DTSTART:20260419T160000Z
DTEND:20260419T160000Z
GEO:+51.514618;+7.460382
LOCATION:Ev. Stadtkirche Sankt Petri
ORGANIZER;CN=:kontakt@hamburg-stage-ensemble.com
SEQUENCE:1
SUMMARY:Hamburg-Stage-Ensemble | La noche del Tango
TRANSP:OPAQUE
URL:https://www.sankt-petri-do.de/component/icagenda/318-hamburg-stage-ense
 mble-la-noche-del-tango/2026-04-19-18-00
END:VEVENT
END:VCALENDAR
