BEGIN:VCALENDAR
VERSION:2.0
PRODID:-//Ev. Stadtkirche Sankt Petri Dortmund//NONSGML kigkonsult.se iCalc
 reator 2.30.10//
CALSCALE:GREGORIAN
METHOD:PUBLISH
UID:2dbc24f6-07fc-471f-ad82-a436d2ebecbf
X-WR-CALNAME:iCagenda
X-WR-CALDESC:Event Management Extension for Joomla!
X-WR-RELCALID:3E26604A-50F4-4449-8B3E-E4F4932D05B5
X-WR-TIMEZONE:Europe/Berlin
BEGIN:VTIMEZONE
TZID:Europe/Berlin
BEGIN:STANDARD
TZNAME:CET
DTSTART:20251026T030000
TZOFFSETFROM:+0200
TZOFFSETTO:+0100
RDATE:20261025T030000
END:STANDARD
BEGIN:DAYLIGHT
TZNAME:CEST
DTSTART:20250330T020000
TZOFFSETFROM:+0100
TZOFFSETTO:+0200
RDATE:20260329T020000
RDATE:20270328T020000
END:DAYLIGHT
END:VTIMEZONE
BEGIN:VEVENT
UID:0b681475-e619-47c0-a39f-96882a4158a7
DTSTAMP:20260421T192508Z
CATEGORIES:StadtPilgerTouren
CLASS:PUBLIC
DESCRIPTION;ALTREP="CID:<FFFF__=0ABBE548DFE235B58f9e8a93d@coffeebean.com>":
 Lichtvision Farbraum - Stockhausens Farbvergasung\n \nDas Licht\, der Raum
  und die Stille machen St. Reinoldi zu einem ganz besonderen Ort. Unter hö
 chstem künstlerischem Anspruch und handwerklicher Präzision gelang es Hans
  Gottfried von Stockhausen\, den im Zweiten Weltkrieg zerstörten Farbraum 
 behutsam neu zu interpretieren. Die bis 1968 gefertigte Farbverglasung ste
 ht heute im Einklang mit der mittelalterlichen Architektur und der kostbar
 en Ausstattung des Chorraumes. Die Teilnehmenden erfahren\, welchen ansprü
 chen der Künstler. der gerecht werden musste. Entdecken Sie die Signatur\,
  die Stockhausen für den Theologen Karl Barth hinterließ? In dieser Verans
 taltung lernen sie außerdem die Besonderheiten der Farbpracht des einzig n
 och erhaltenen mittelalterlichen Fensterfragmentes kennen.
DTSTART:20251115T100000Z
DTEND:20251115T113000Z
GEO:+51.514744;+7.467655
LOCATION:Ev. Stadtkirche St. Reinoldi\, Ostenhellweg 2\, 44135 Dortmund
ORGANIZER;CN=:johanna.lohff@ekkdo.de
SEQUENCE:1
SUMMARY:Lichtvision Farbraum - Stockhausens Farbvergasung
TRANSP:OPAQUE
URL:https://www.sankt-petri-do.de/stadtpilgertouren/touren/268-lichtvision-
 farbraum-stockhausens-farbvergasung
END:VEVENT
END:VCALENDAR
