BEGIN:VCALENDAR
VERSION:2.0
PRODID:-//Ev. Stadtkirche Sankt Petri Dortmund//NONSGML kigkonsult.se iCalc
 reator 2.30.10//
CALSCALE:GREGORIAN
METHOD:PUBLISH
UID:8f8976dc-4431-4ed3-9ee3-7e144156fba2
X-WR-CALNAME:iCagenda
X-WR-CALDESC:Event Management Extension for Joomla!
X-WR-RELCALID:3E26604A-50F4-4449-8B3E-E4F4932D05B5
X-WR-TIMEZONE:Europe/Berlin
BEGIN:VTIMEZONE
TZID:Europe/Berlin
BEGIN:STANDARD
TZNAME:CET
DTSTART:20251026T030000
TZOFFSETFROM:+0200
TZOFFSETTO:+0100
RDATE:20261025T030000
END:STANDARD
BEGIN:DAYLIGHT
TZNAME:CEST
DTSTART:20250330T020000
TZOFFSETFROM:+0100
TZOFFSETTO:+0200
RDATE:20260329T020000
RDATE:20270328T020000
END:DAYLIGHT
END:VTIMEZONE
BEGIN:VEVENT
UID:1fd8fb60-9449-46f3-b740-b32fd67840f7
DTSTAMP:20260420T104108Z
CATEGORIES:StadtPilgerTouren
CLASS:PUBLIC
DESCRIPTION;ALTREP="CID:<FFFF__=0ABBE548DFE235B58f9e8a93d@coffeebean.com>":
 Die Weihnachtsgeschichte auf dem Altarretabel in der Ev. Stadtkirche St. R
 einoldi\nDie Ev. Stadtkirche St. Reinoldi ist Wahrzeichen Dortmunds und Sp
 iegel der Stadtgeschichte zugleich. Die Fundamente der Kirche zeugen aus d
 er Zeit der Stadtgründung\, ihre einzigartige Architektur weist noch heute
  sichtbare Spuren der letzten 750 Jahre auf. So erzählt die Kirche als Zeu
 gin der Vergangenheit über sich\, das Stadt- und Weltgeschehen. Die Teilne
 hmenden begeben sich auf Spurensuche und lernen\, wie sich in Architektur 
 und Mauerwerk Geschichte(n) aus der Romanik über die Gotik und den Barock 
 bis zum Wiederaufbau nach dem Zweiten Weltkrieg lesen lassen.
DTSTART:20251216T153000Z
DTEND:20251216T170000Z
GEO:+51.514744;+7.467655
LOCATION:Ev. Stadtkirche St. Reinoldi\, Ostenhellweg 2\, 44135 Dortmund
ORGANIZER;CN=:johanna.lohff@ekkdo.de
SEQUENCE:1
SUMMARY:Die Weihnachtsgeschichte auf dem Altarretabel in der Ev. Stadtkirch
 e St. Reinoldi
TRANSP:OPAQUE
URL:https://www.sankt-petri-do.de/stadtpilgertouren/touren/270-die-weihnach
 tsgeschichte-auf-dem-altarretabel-in-der-ev-stadtkirche-st-reinoldi
END:VEVENT
END:VCALENDAR
