BEGIN:VCALENDAR
VERSION:2.0
PRODID:-//Ev. Stadtkirche Sankt Petri Dortmund//NONSGML kigkonsult.se iCalc
 reator 2.30.10//
CALSCALE:GREGORIAN
METHOD:PUBLISH
UID:e32ed129-e1b9-4f64-a5bb-df40c561cd1a
X-WR-CALNAME:iCagenda
X-WR-CALDESC:Event Management Extension for Joomla!
X-WR-RELCALID:3E26604A-50F4-4449-8B3E-E4F4932D05B5
X-WR-TIMEZONE:Europe/Berlin
BEGIN:VTIMEZONE
TZID:Europe/Berlin
BEGIN:STANDARD
TZNAME:CET
DTSTART:20251026T030000
TZOFFSETFROM:+0200
TZOFFSETTO:+0100
RDATE:20261025T030000
RDATE:20271031T030000
END:STANDARD
BEGIN:DAYLIGHT
TZNAME:CEST
DTSTART:20260329T020000
TZOFFSETFROM:+0100
TZOFFSETTO:+0200
RDATE:20270328T020000
END:DAYLIGHT
END:VTIMEZONE
BEGIN:VEVENT
UID:4084234e-db49-4e22-989a-3c94dde463bd
DTSTAMP:20260424T051141Z
CATEGORIES:StadtPilgerTouren
CLASS:PUBLIC
DESCRIPTION;ALTREP="CID:<FFFF__=0ABBE548DFE235B58f9e8a93d@coffeebean.com>":
 Paris - Stadt der Kathedralen\n \nAusgehend von unseren Dortmunder Stadtki
 rchen\, die gotische Stilmerkmale aufweisen\, besuchen wir Paris\, die Wie
 ge der französischen Kathedralgotik. Notre Dame\, die Kathedrale des Erzbi
 stums Paris\, Weltkulturerbe und eine der bedeutensten Sehenswürdigkeiten 
 der Stadt\, wurde nach dem Brand am 15. April 2019 stark beschädigt. Seit 
 Dezember 2024 ist die Kathedrale wieder für der Publikum zugänglich. Auf d
 ieser Studienreise nach Paris beschäftigen wir uns mit gotischen Sakralgeb
 äuden in Paris und Chartres. Im Fokus stehen Notre-Dame de Paris und die S
 ainte-Chapelle sowie die Kathedralen von Saint Denis und Chartres. Außerde
 m erhalten wir einen Überblick von der Stadtgründung auf der Seineinsel bi
 s zur Weltausstellung 1889. Abschließend ist ein Besuch bei der deutschspr
 achigen evangelischen Gemeinde in Paris geplant.\nWir freuen uns\, die Stu
 dienreise nach Paris aufgrund der großen Nachfrage und des Erfolgs der ver
 gangenen Reise nochmals anbieten zu können.\nAnmeldeende ist schon der 15.
  Dezember!\nProgramm\nMo. 18.5.2025\nAnreise und Einführung\nWir starten a
 m Morgen mit dem Zug von Dortmund Hbf nach Paris. Am Nachmittag verschaffe
 n wir uns bei einem geführten Stadtrundgang einen Überblick über die Paris
 er Stadtentwicklung von den Anfängen auf der Île de la Cité bis zum Trocad
 éro\, von dem man einen wunderbaren Blick auf den Eiffelturm hat.\nDi. 19.
 5.2025\nGotische Baukunst in Paris\nWir befassen uns mit dem Weltkulturerb
 e Notre-Dame de Paris\, einer der bedeutensten gotischen Sakralbauten. Am 
 Nachmittag besuchen wir die Sainte-Chapelle\, die Ludwig IX. als architekt
 onischen Reliquienschrein für die Passionswerkzeuge Christi errichten ließ
  und die heute zu den bedeutensten Zeugnissen der Hochgotik gehört. Wir be
 schließen den Tag mit dem spätgotischen Turm Saint Jacques und einer kurze
 n Geschichte der Jakobspilger in Paris.\nMi. 20.5.2025\nSaint Denis und de
 r Montmatre\nAm Vormittag geht es um die Ursprünge der gotischen Kathedral
 architektur in Saint Denis\, zugleich Grablege der französischen Könige. A
 m Nachmittag erklimmen wir den Montmatre\, Hinrichtungsstätte des Hl. Dion
 ysius mit der Basilika Sacre-Cœur und beschäftigen uns mit diesem einzigar
 tigen Sakralbauprojekt des 19. Jahrhunderts.\nDo. 21.5.2025\nExkursion nac
 h Chartres\nWir fahren mit dem Zug in das nahegelegene Städtchen Chartres\
 , das durch seine hochgelegene Kathedrale besticht. Notre-Dame de Chartres
  gehört zu den eindrucksvollsten Beispielen französischer Kathedralgotik d
 er Île de France. Am Nachmittag erfahren wir in einem geführten Stadtrundg
 ang\, wie die Chartres-Pilger zur mittelalterlichen Stadtentwicklung beige
 tragen haben.\nFr. 22.5.2024\nProtestanten in Paris und Heimreise\nFür den
  Vormittag ist ein Besuch in der Christuskirche geplant\, der Kirche der d
 eutschsprachigen protestantischen Gemeinde in Paris. Geplant ist ein Austa
 usch zur Gemeindearbeit heute. Wie leben evangelische Christen in einem la
 izistischen Staat? Am Nachmittag fahren wir mit dem Zug zurück nach Dortmu
 nd Hbf\, wo wir gegen 20:40 Uhr eintreffen.\nKonditionen\nDie Reise inklud
 iert die Hin- und Rückfahrt ab Dortmund Hbf mit dem Eurostar\, vier Überna
 chtungen\, City-Tax\, Frühstücksbuffet\, drei Abendessen in ausgesuchten R
 estaurants\, ein Fünftage-ÖPNV-Ticket für Paris\, die Bahnfahrt Paris-Char
 tres und zurück\, Audiosystem\, Gepäckaufbewahrung in Paris Nord am Abreis
 etag\, Eintritte sowie die Reiseleitung ab und bis Dortmund Hbf.\nTeilnehm
 ende: mind. 12\, max. 16 Personen\nPreise\nim DZ 1.170\,-€\, im EZ 1.280\,
 - €\, im DZ mit Alleinnutzung: 1.350\,-€\nWir arbeiten mit professionellen
  Reiseunternehmen zusammen. Diese Reise wird von Conti-Reisen GmbH unter f
 olgenden Konditionen durchgeführt:\nReisedokumente:\nDeutsche Staatsangehö
 rige benötigen einen gültigen Personalausweis oder Reisepass. Nationalität
  bitte angeben.\nAngehörige anderer Staaten oder Reiseteilnehmer mit Beson
 derheiten (z. B. Doppelstaatsangehörigkeit) teilen uns dies bitte bei Buch
 ung mit. Wir informieren Sie über die Beschaffung und/oder das Mitführen d
 er zur Reise benötigten Dokumente.\n \nAnzahlung und Restzahlung:\nIhren R
 eisepreis-Sicherungsschein erhalten Sie mit der Reisebestätigung.Anzahlung
 : 20 % bis 10 Tage nach Erhalt der ReisebestätigungRestzahlung: bis 4 Woch
 en vor Abreise\n \nNichterreichen der Mindestteilnehmerzahl:\nDie Reise ka
 nn wegen Nichterreichens der Mindestteilnehmerzahl seitens Conti-Reisen Gm
 bH bis 4 Wochen vor Abreise abgesagt werden. Selbstverständlich informiere
 n wir Sie umgehend\, Anzahlungen werden erstattet.\n \nRücktritt und Allge
 meine Reisebedingungen:\nReisende können jederzeit vor Reiseantritt gegen 
 Zahlung einer Entschädigungspauschale vom Vertrag zurücktreten. Es gelten 
 die Allgemeinen Reisebedingungen der Conti-Reisen GmbH (Bahn-Reisen).\n \n
 Bestimmungsort der Reise:\n18.-22.05.2026 – Paris – 4 Nächte\n \nEingeschr
 änkte Mobilität:\nUnsere Reisen sind für Menschen mit eingeschränkter Mobi
 lität nicht oder nur bedingt geeignet. Sollten Sie die Anforderungen unser
 er Reisen nicht oder nur teilweise erfüllen können\, kontaktieren Sie uns 
 unbedingt vor Ihrer Buchung.
DTSTART:20260518T043000Z
DTEND:20260522T173000Z
GEO:+51.517166;+7.459181
LOCATION:Treffpunkt Hbf Dortmund\, DB-Info-Stand in der Vorhalle
ORGANIZER;CN=:johanna.lohff@ekkdo.de
SEQUENCE:1
SUMMARY:Paris - Stadt der Kathedralen
TRANSP:OPAQUE
URL:https://www.sankt-petri-do.de/stadtpilgertouren/touren/274-paris-stadt-
 der-kathedralen-2
END:VEVENT
END:VCALENDAR
