BEGIN:VCALENDAR
VERSION:2.0
PRODID:-//Ev. Stadtkirche Sankt Petri Dortmund//NONSGML kigkonsult.se iCalc
 reator 2.30.10//
CALSCALE:GREGORIAN
METHOD:PUBLISH
UID:a2a678a0-4dd8-4a2f-bf6f-a4d7a19532b8
X-WR-CALNAME:iCagenda
X-WR-CALDESC:Event Management Extension for Joomla!
X-WR-RELCALID:3E26604A-50F4-4449-8B3E-E4F4932D05B5
X-WR-TIMEZONE:Europe/Berlin
BEGIN:VTIMEZONE
TZID:Europe/Berlin
BEGIN:STANDARD
TZNAME:CET
DTSTART:20251026T030000
TZOFFSETFROM:+0200
TZOFFSETTO:+0100
RDATE:20261025T030000
END:STANDARD
BEGIN:DAYLIGHT
TZNAME:CEST
DTSTART:20250330T020000
TZOFFSETFROM:+0100
TZOFFSETTO:+0200
RDATE:20260329T020000
RDATE:20270328T020000
END:DAYLIGHT
END:VTIMEZONE
BEGIN:VEVENT
UID:ddd6a113-5a4b-4a1c-9c50-84b7d00a6c45
DTSTAMP:20260423T233527Z
CATEGORIES:Spirituelles
CLASS:PUBLIC
DESCRIPTION;ALTREP="CID:<FFFF__=0ABBE548DFE235B58f9e8a93d@coffeebean.com>":
  \nMi  24.12. | 16.30 Uhr„G*ttes Erscheinen. Schatten und Glanz“Heilig Abe
 nd Stadtkirchengottesdienst mit festlicher Musik und Quempas-Chor (siehe 2
 1.12.)\nIn der besonderen Atmosphäre der Petrikirche erklingen u.a.Bearbei
 tungen des Weihnachtsoratoriums von J.S. Bach fürSoloposaune\, Violinen un
 d Orgel. Der Quempasgesang undtraditionelle lateinische Weihnachtsgesänge 
 werden aus denvier Himmelsrichtungen gesungen.Pfarrerin Christel Schürmann
  | Ulrike Böhmer Dipl. Religionspädagogin Camillo Westerhoff Geige | Frede
 ric Westerhoff PosauneMartin Westerhoff Geige | Susanne Westerhoff Leitung
 /Orgel/Flügel\n 
DTSTART:20251224T153000Z
DTEND:20251224T153000Z
GEO:+51.514618;+7.460382
LOCATION:Ev. Stadtkirche Sankt Petri
ORGANIZER:
SEQUENCE:1
SUMMARY:Heilig Abend Stadtkirchengottesdienst
TRANSP:OPAQUE
URL:https://www.sankt-petri-do.de/start/kalender/293-heilig-abend-stadtkirc
 hengottesdienst/2025-12-24-16-30
END:VEVENT
END:VCALENDAR
