BEGIN:VCALENDAR
VERSION:2.0
PRODID:-//Ev. Stadtkirche Sankt Petri Dortmund//NONSGML kigkonsult.se iCalc
 reator 2.30.10//
CALSCALE:GREGORIAN
METHOD:PUBLISH
UID:c5984176-dfa7-4b88-8464-96bf8be36634
X-WR-CALNAME:iCagenda
X-WR-CALDESC:Event Management Extension for Joomla!
X-WR-RELCALID:3E26604A-50F4-4449-8B3E-E4F4932D05B5
X-WR-TIMEZONE:Europe/Berlin
BEGIN:VTIMEZONE
TZID:Europe/Berlin
BEGIN:STANDARD
TZNAME:CET
DTSTART:20251026T030000
TZOFFSETFROM:+0200
TZOFFSETTO:+0100
RDATE:20261025T030000
END:STANDARD
BEGIN:DAYLIGHT
TZNAME:CEST
DTSTART:20250330T020000
TZOFFSETFROM:+0100
TZOFFSETTO:+0200
RDATE:20260329T020000
RDATE:20270328T020000
END:DAYLIGHT
END:VTIMEZONE
BEGIN:VEVENT
UID:9957ce27-381c-4d10-943f-f3dbde621d7f
DTSTAMP:20260426T010257Z
CATEGORIES:Konzerte
CLASS:PUBLIC
DESCRIPTION;ALTREP="CID:<FFFF__=0ABBE548DFE235B58f9e8a93d@coffeebean.com>":
 59 Minuten Weihnachten\nFORMATION UFERMANN + HAYAT CHAOUI\nDie musikalisch
 -poetische  Auseinandersetzung mit der alten Geschichte zu Weihnachten ber
 ührt auf eindrückliche Weise. Ihre Übertragung in unsere gegenwärtige Situ
 ation überrascht. Das Konzert der Wuppertaler FORMATION UFERMANN mit der m
 arokkanisch stämmigen Sängerin HAYAT CHAOUI lässt etwas von dem aufleuchte
 n\, was man eigentlich zu Weihnachten erwartet: \nSchalom\, Salam\, Friede
 n. \n \nFORMATION UFERMANN\nDer Austausch zwischen den Kulturen\, die Bege
 gnung von Menschen und das Spiel mit verschiedenen Kunstformen und Musikst
 ilen prägen die Arbeit der Wuppertaler FORMATION UFERMANN seit über dreißi
 g Jahren. Die Musik ist eine einmalige Melange aus eigenen lyrischen Kompo
 sitionen\, Jazz\, Chansons und alten spirituellen Liedern aus drei Religio
 nen. Die Formation kann auf Auftritte im europäischen Ausland und in Südam
 erika\, in Radio- und TV-Produktionen sowie auf internationale Festivals z
 urückblicken (u.a. Jazzfestival von Montreux). Die Band arbeitete mit Küns
 tlerinnen und Künstlern aus verschiedenen Kulturkreisen zusammen und veröf
 fentlichte bisher 12 CDs. \n \nHAYAT CHAOUI\nProf. Hayat Chaoui studierte 
 klassischen Gesang an der Hochschule für Musik und Tanz Köln\, Wuppertal b
 ei Prof. Barbara Schlick. Sie ist Preisträgerin mehrerer Wettbewerbe\, kon
 zertiert als Solistin international und lehrt heute selbst als Dozentin fü
 r klassischen Gesang und Stimmbildung. Hayat Chaoui leitet den internation
 alen Frauenchor WoW – Women of Wuppertal und erhielt in den letzten Jahren
  mit Veröffentlichungen im Bereich interkulturelles Singen bundesweite Pre
 ise. Der marokkanische König ehrte sie 2013 und 2025 für ihre künstlerisch
 en Verdienste mit einer Einladung an den königlichen Hof. \n BESETZUNG\nha
 yat chaoui   voc\nerhard ufermann   p\, voc\,  kompositionen u. konzeption
 \ndieter nett   sax\, cl\, voc\,  arrangements\nnappo bernatzki   sax\nhar
 ald eller   b\, git\, daxophon \njörg dausend   dr\nthomas lensing   perc\
 , voc\n 
DTSTART:20251226T160000Z
DTEND:20251226T160000Z
GEO:+51.514618;+7.460382
LOCATION:Ev. Stadtkirche Sankt Petri
ORGANIZER;CN=:buero@sankt-petri-do.de
SEQUENCE:1
SUMMARY:59 Minuten Weihnachten
TRANSP:OPAQUE
URL:https://www.sankt-petri-do.de/start/kalender/294-59-minuten-weihnachten
 /2025-12-26-17-00
END:VEVENT
END:VCALENDAR
