BEGIN:VCALENDAR
VERSION:2.0
PRODID:-//Ev. Stadtkirche Sankt Petri Dortmund//NONSGML kigkonsult.se iCalc
 reator 2.30.10//
CALSCALE:GREGORIAN
METHOD:PUBLISH
UID:e46b7422-2bb3-4a45-b42d-80b1b422d91f
X-WR-CALNAME:iCagenda
X-WR-CALDESC:Event Management Extension for Joomla!
X-WR-RELCALID:3E26604A-50F4-4449-8B3E-E4F4932D05B5
X-WR-TIMEZONE:Europe/Berlin
BEGIN:VTIMEZONE
TZID:Europe/Berlin
BEGIN:STANDARD
TZNAME:CET
DTSTART:20251026T030000
TZOFFSETFROM:+0200
TZOFFSETTO:+0100
RDATE:20261025T030000
END:STANDARD
BEGIN:DAYLIGHT
TZNAME:CEST
DTSTART:20250330T020000
TZOFFSETFROM:+0100
TZOFFSETTO:+0200
RDATE:20260329T020000
RDATE:20270328T020000
END:DAYLIGHT
END:VTIMEZONE
BEGIN:VEVENT
UID:a20d63b8-1fe0-4dff-a866-90c397871de2
DTSTAMP:20260423T210652Z
CATEGORIES:Vorträge und Seminare
CLASS:PUBLIC
DESCRIPTION;ALTREP="CID:<FFFF__=0ABBE548DFE235B58f9e8a93d@coffeebean.com>":
 Frauenperspektiven in Krisenzeiten - kreativ. konstruktiv. kraftvoll \n11.
  Dortmunder FrauenMahl mit Tischreden\, Essen (vegetarisch) und Gesprächen
 \n \nBeginn Do.\, 12.02.2026\, 17:30 – 21.15 Uhr\nEv. Stadtkirche Sankt Pe
 tri\nTicket 38\,00 € \n \nAn festlich gedeckten Tischen treffen sich Fraue
 n aus Politik\, Kirche\, Stadtgesellschaft. In Tischreden setzen Rednerinn
 en Impulse\, die zur Diskussion einladen.\n \nInmitten wirtschaftlicher un
 d politischer Krisen geraten Frauen zunehmend unter Druck - sei es in ihre
 r Existenz oder in ihrem Selbstverständnis. Sie übernehmen Verantwortung a
 ls Krisenmanagerinnen  in Konzernen\; sie werden als Topsaniererinnen gefe
 iert. Oder sie werden in traditionelle Rollenmuster gedrängt. Parallel daz
 u entsteht eine neuer Trend: Influencerinnen und sogenannte 'Momfluencerin
 nen' werben für ein sorgenfreies Leben als 'Tradwife' - die glückliche Hau
 sfrau und Mutter als Idealbild. Sie bedienen mit diesem vermeintlich tradi
 tionellen Bild der 'guten Hausfrau und Mutter' einen eigenen Markt. Mit ih
 rer je eigenen Perspektive setzen sich die Tischrednerinnen mit diesem Phä
 nomen auseinander:\n \nDr. Adelheid Ruck-Schröder\, Präses der Ev. Kirche 
 von Westfalen reflektiert das vermeintlich christliche Frauenbild\n \nVikt
 oria Rösch\, Uni Frankfurt führt ein in die Familien-und Weiblichkeitsbild
 er von Tradwives und rechten Momfluencer*innen\n \nElisabeth Brenker\, Gle
 ichstellung TU Dortmund\, beleuchtet die politisch-gesellschaftliche Persp
 ektive auf  Frauenrollen\n \nUlrike Böhmer alias Erna Schabiewsky bringt i
 hre ganz eigene Vorstellung von Frausein auf die Bühne und an den Altar\n 
 \nAndrea Blome\, Moderation\n \nMusikalisch wird der Abend von Duo Aciano 
 gestaltet.\n \n______________________________________________\n \nWir lade
 n ein zum Frauenmahl in der (historischen) Ev. Stadtkirche Sankt Petri. Bi
 tte denken Sie an sehr warme Kleidung.\n \nAnkommen ab 17.30 Uhr | Beginn 
 18 Uhr\n \neingeladen sind Frauen\n \n------------------------------------
 ----------------------------------------------\n \nEine Kooperation von: E
 vangelische Kirche Dortmund\, Gleichstellungsbüro der Stadt Dortmund\n \n 
 \n 
DTSTART:20260212T163000Z
DTEND:20260212T201500Z
GEO:+51.514618;+7.460382
LOCATION:Ev. Stadtkirche Sankt Petri
ORGANIZER;CN=:buero@sankt-petri-do.de
SEQUENCE:1
SUMMARY:11. Dortmunder FrauenMahl
TRANSP:OPAQUE
URL:https://www.sankt-petri-do.de/start/kalender/298-11-dortmunder-frauenma
 hl
END:VEVENT
END:VCALENDAR
