BEGIN:VCALENDAR
VERSION:2.0
PRODID:-//Ev. Stadtkirche Sankt Petri Dortmund//NONSGML kigkonsult.se iCalc
 reator 2.30.10//
CALSCALE:GREGORIAN
METHOD:PUBLISH
UID:9b2acccd-fcc1-41dd-b423-8899136706b8
X-WR-CALNAME:iCagenda
X-WR-CALDESC:Event Management Extension for Joomla!
X-WR-RELCALID:3E26604A-50F4-4449-8B3E-E4F4932D05B5
X-WR-TIMEZONE:Europe/Berlin
BEGIN:VTIMEZONE
TZID:Europe/Berlin
BEGIN:STANDARD
TZNAME:CET
DTSTART:20251026T030000
TZOFFSETFROM:+0200
TZOFFSETTO:+0100
RDATE:20261025T030000
END:STANDARD
BEGIN:DAYLIGHT
TZNAME:CEST
DTSTART:20250330T020000
TZOFFSETFROM:+0100
TZOFFSETTO:+0200
RDATE:20260329T020000
RDATE:20270328T020000
END:DAYLIGHT
END:VTIMEZONE
BEGIN:VEVENT
UID:f0141f93-76ee-42a6-89a1-7f25ab41b2d2
DTSTAMP:20260424T164551Z
CATEGORIES:Spirituelles
CLASS:PUBLIC
DESCRIPTION;ALTREP="CID:<FFFF__=0ABBE548DFE235B58f9e8a93d@coffeebean.com>":
 So 7.12. | 11.30 Uhr\nAdventsgottesdienst der Mitternachtsmission \nDie Do
 rtmunder Mitternachtsmission e.V. lädt zum traditionellen Adventsgottesdie
 nst  in die Ev. Stadtkirche Sankt Petri ein.\nPfarrerin Leonie Grüning st.
  stellv. Superintendentin\n 
DTSTART:20251207T103000Z
DTEND:20251207T103000Z
GEO:+51.514618;+7.460382
LOCATION:Ev. Stadtkirche Sankt Petri
ORGANIZER;CN=:buero@sankt-petri-do.de
SEQUENCE:1
SUMMARY:Adventsgottesdienst der Mitternachtsmission 
TRANSP:OPAQUE
URL:https://www.sankt-petri-do.de/veranstaltungen/289-adventsgottesdienst-d
 er-mitternachtsmission-2/2025-12-07-11-30
END:VEVENT
END:VCALENDAR
