BEGIN:VCALENDAR
VERSION:2.0
PRODID:-//Ev. Stadtkirche Sankt Petri Dortmund//NONSGML kigkonsult.se iCalc
 reator 2.30.10//
CALSCALE:GREGORIAN
METHOD:PUBLISH
UID:0fb0e178-449b-4438-8e01-df141d8586cc
X-WR-CALNAME:iCagenda
X-WR-CALDESC:Event Management Extension for Joomla!
X-WR-RELCALID:3E26604A-50F4-4449-8B3E-E4F4932D05B5
X-WR-TIMEZONE:Europe/Berlin
BEGIN:VTIMEZONE
TZID:Europe/Berlin
BEGIN:STANDARD
TZNAME:CET
DTSTART:20251026T030000
TZOFFSETFROM:+0200
TZOFFSETTO:+0100
RDATE:20261025T030000
END:STANDARD
BEGIN:DAYLIGHT
TZNAME:CEST
DTSTART:20250330T020000
TZOFFSETFROM:+0100
TZOFFSETTO:+0200
RDATE:20260329T020000
RDATE:20270328T020000
END:DAYLIGHT
END:VTIMEZONE
BEGIN:VEVENT
UID:dd2b5a5c-c372-4de2-a3ee-bb0e0e3ba2fb
DTSTAMP:20260419T225201Z
CATEGORIES:Kirchenführungen
CLASS:PUBLIC
DESCRIPTION;ALTREP="CID:<FFFF__=0ABBE548DFE235B58f9e8a93d@coffeebean.com>":
 'Wir werden dort beten\, wo seine Füße standen'. Die Hl. Helena als erste 
 Pilgerin\nIn der Ev. Stadtkirche Sankt Petri befindet sich das berühmte An
 twerpener Altarretabel\, bekannt als 'Goldenes Wunder von Westfalen'. Die 
 Goldseite zeigt in ihren Gefachen ausführlich die Passion Christi. In der 
 Predella jedoch wird eine andere Geschichte erzählt. Hier geht es u.a. um 
 Helena\, Mutter Kaiser Konstantins\, der nach der Schlacht an der Milvisch
 en Brücke das Christentum bestätigte. Helena stammte aus einfachen Verhält
 nissen\, wurde selbst Christin und förderte das sich ausbreitende Christen
 tum. Der Legende nach pilgerte sie im hohen Altar nach Jerusalem\, wo sie 
 das Kreuz Christi fand. Anhand des Goldenen Wunders lässt sich ihre legend
 enhafte Geschichte aber auch ihre Bedeutung für das frühe Christentum dars
 tellen.\nChristel Botterbusch zeigt ihnen die Petrikirche und nimmt sie mi
 t auf einen besonderen Pilgerweg.
DTSTART:20260310T143000Z
DTEND:20260310T160000Z
GEO:+51.514618;+7.460382
LOCATION:Ev. Stadtkirche Sankt Petri
ORGANIZER;CN=:buero@sankt-petri-do.de
SEQUENCE:1
SUMMARY:'Wir werden dort beten\, wo seine Füße standen'.
TRANSP:OPAQUE
URL:https://www.sankt-petri-do.de/veranstaltungen/309-wir-werden-dort-beten
 -wo-seine-fuesse-standen
END:VEVENT
END:VCALENDAR
