BEGIN:VCALENDAR
VERSION:2.0
PRODID:-//Ev. Stadtkirche Sankt Petri Dortmund//NONSGML kigkonsult.se iCalc
 reator 2.30.10//
CALSCALE:GREGORIAN
METHOD:PUBLISH
UID:95849bc8-a037-4c3a-9a25-bba370d87fb1
X-WR-CALNAME:iCagenda
X-WR-CALDESC:Event Management Extension for Joomla!
X-WR-RELCALID:3E26604A-50F4-4449-8B3E-E4F4932D05B5
X-WR-TIMEZONE:Europe/Berlin
BEGIN:VTIMEZONE
TZID:Europe/Berlin
BEGIN:STANDARD
TZNAME:CET
DTSTART:20251026T030000
TZOFFSETFROM:+0200
TZOFFSETTO:+0100
RDATE:20261025T030000
END:STANDARD
BEGIN:DAYLIGHT
TZNAME:CEST
DTSTART:20250330T020000
TZOFFSETFROM:+0100
TZOFFSETTO:+0200
RDATE:20260329T020000
RDATE:20270328T020000
END:DAYLIGHT
END:VTIMEZONE
BEGIN:VEVENT
UID:70bf3497-de49-4c1f-b8b5-4e8de7c9e691
DTSTAMP:20260422T222948Z
CATEGORIES:Konzerte
CLASS:PUBLIC
DESCRIPTION;ALTREP="CID:<FFFF__=0ABBE548DFE235B58f9e8a93d@coffeebean.com>":
 Weihnachtskonzert mit Grundschulkindern\nDi 2.12.  | 16.30 Uhr   \nEintrit
 t frei veranstaltet von KLANGVOKAL Dortmund
DTSTART:20251202T153000Z
DTEND:20251202T153000Z
GEO:+51.514618;+7.460382
LOCATION:Ev. Stadtkirche Sankt Petri
ORGANIZER;CN=:buero@sankt-petri-do.de
SEQUENCE:1
SUMMARY:Weihnachtskonzert mit Grundschulkindern
TRANSP:OPAQUE
URL:https://www.sankt-petri-do.de/veranstaltungen/veranstaltungen-konzerte/
 287-weihnachtskonzert-mit-grundschulkindern/2025-12-02-16-30
END:VEVENT
END:VCALENDAR
